BEGIN:VCALENDAR
VERSION:2.0
PRODID:-//あした、どこいく？ - ECPv6.15.20//NONSGML v1.0//EN
CALSCALE:GREGORIAN
METHOD:PUBLISH
X-WR-CALNAME:あした、どこいく？
X-ORIGINAL-URL:https://asita-dokoiku.com
X-WR-CALDESC:あした、どこいく？ のイベント
REFRESH-INTERVAL;VALUE=DURATION:PT1H
X-Robots-Tag:noindex
X-PUBLISHED-TTL:PT1H
BEGIN:VTIMEZONE
TZID:Asia/Tokyo
BEGIN:STANDARD
TZOFFSETFROM:+0900
TZOFFSETTO:+0900
TZNAME:JST
DTSTART:20250101T000000
END:STANDARD
END:VTIMEZONE
BEGIN:VEVENT
DTSTART;TZID=Asia/Tokyo:20260411T100000
DTEND;TZID=Asia/Tokyo:20260411T130000
DTSTAMP:20260425T235115
CREATED:20260415T055615Z
LAST-MODIFIED:20260415T055615Z
UID:392-1775901600-1775912400@asita-dokoiku.com
SUMMARY:【中田神社】4/11（土）第10回かやっくりーマルシェ in Spring
DESCRIPTION:\ 地元の魅力満開 //\n第10回 かやっくりーマルシェ in Springの開催のお知らせです！ \n日時：４月１１日（土）　１０時～１３時\n小雨決行、荒天時は１２日に順延 \n場所：中田神社\n仙台市太白区西中田１丁目２０－１２ \n地域の素敵なお店が大集合の人気イベントも今回で１０回目。\nふれあいマルシェには、おとなりの中田・東中田商工振興会さんからの出店もあり、ますます充実のラインアップ。 \n豪華賞品が当たる抽選会も開催。\nかやっくりーグッズや駄菓子の販売もあります。 \n【出店一覧（順不同）】\n・alpaca シフォン　・あろい　・en　・ottoble　・カシミール　・喜久水庵　・佐藤花園　・次男坊　・すし海道　・swallow　・tohoパートナー会　・tosho　・西中田地域包括支援センター　・bring　・Mon-Favori　・ROPPEN　・リアリノ　・dyl hair　・もののね　・角ちん \nお散歩がてら、ご家族やお友達とぜひ遊びに来てください！ \nお問合せ：柳生・西中田商工振興会　事務局\n電話：022-302-3305\nメール：kizuna@8724.fun
URL:https://asita-dokoiku.com/event/%e3%80%90%e4%b8%ad%e7%94%b0%e7%a5%9e%e7%a4%be%e3%80%914-11%ef%bc%88%e5%9c%9f%ef%bc%89%e7%ac%ac10%e5%9b%9e%e3%81%8b%e3%82%84%e3%81%a3%e3%81%8f%e3%82%8a%e3%83%bc%e3%83%9e%e3%83%ab%e3%82%b7%e3%82%a7-in-s/
LOCATION:中田神社\, 仙台市太白区西中田１丁目２０－１２
CATEGORIES:太白区
ATTACH;FMTTYPE=image/jpeg:https://asita-dokoiku.com/wp-content/uploads/2026/04/marche-1.jpg
END:VEVENT
BEGIN:VEVENT
DTSTART;TZID=Asia/Tokyo:20260404T100000
DTEND;TZID=Asia/Tokyo:20260405T160000
DTSTAMP:20260425T235115
CREATED:20260331T204538Z
LAST-MODIFIED:20260413T043425Z
UID:59-1775296800-1775404800@asita-dokoiku.com
SUMMARY:【イオンモール名取】4/4(土)-4/5（日）いすゞ自動車東北　ELF mio ・ELF mio CROSS STYLE　特別展示会　
DESCRIPTION:本田翼さんのCMでおなじみ、いすゞのELF mioは「普通免許で運転できる」新しい小型トラック。\n小回りも利いて、狭い道もラクラク行ける。\nしかもAT車限定免許でも運転できる、まさに「だれでもトラック」です。\nボディもELF mio専用色の爽やかで可愛らしい「ペールブルー」。\n便利な室内装備もコンパクトにまとめられていて、女性ドライバーでも快適に運転できます。 \nもちろんいすゞ独自の安全機能も充実。\n事故最小化のために、ドライバーをサポートします。 \nさらに、遊び心を刺激するELF mio CROSS STYLEが登場！\n「仕事にも趣味にもこだわりたい」を満足させる1台です。 \n今回ELF mio・ELF mio CROSS STYLEを展示。\n普段あまり見ることのできない室内や荷台など、自由にご覧いただけます。 \nまた、春休み特別企画として3つをご用意いたしました。\n①ぬり絵でつくる「オリジナル缶バッジ」\n②いすゞ自動車東北のInstagramフォローで「ELF mioプルバックカープレゼント」\n③アンケートにご協力いただくと「はたらくくるまリフレクターバンドプレゼント」 \nファミリーで楽しめる2日間。\nぜひ「あおばコート」にお越しください。
URL:https://asita-dokoiku.com/event/%e3%81%84%e3%81%99%e3%82%9e%e8%87%aa%e5%8b%95%e8%bb%8a%e6%9d%b1%e5%8c%97%e3%80%80elf-mio-%e3%83%bbelf-mio-cross-style%e3%80%80%e7%89%b9%e5%88%a5%e5%b1%95%e7%a4%ba%e4%bc%9a/
LOCATION:イオンモール名取\, 宮城県名取市杜せきのした5丁目3番地の1\, 〒981-1294
CATEGORIES:市外
END:VEVENT
END:VCALENDAR