BEGIN:VCALENDAR
VERSION:2.0
PRODID:-//あした、どこいく？ - ECPv6.15.20//NONSGML v1.0//EN
CALSCALE:GREGORIAN
METHOD:PUBLISH
X-ORIGINAL-URL:https://asita-dokoiku.com
X-WR-CALDESC:あした、どこいく？ のイベント
REFRESH-INTERVAL;VALUE=DURATION:PT1H
X-Robots-Tag:noindex
X-PUBLISHED-TTL:PT1H
BEGIN:VTIMEZONE
TZID:Asia/Tokyo
BEGIN:STANDARD
TZOFFSETFROM:+0900
TZOFFSETTO:+0900
TZNAME:JST
DTSTART:20250101T000000
END:STANDARD
END:VTIMEZONE
BEGIN:VEVENT
DTSTART;TZID=Asia/Tokyo:20260519T100000
DTEND;TZID=Asia/Tokyo:20260519T110000
DTSTAMP:20260426T004138
CREATED:20260425T043439Z
LAST-MODIFIED:20260425T043439Z
UID:612-1779184800-1779188400@asita-dokoiku.com
SUMMARY:【のびすく長町】5/19(火) ひと息育児相談会
DESCRIPTION:◆ひと息育児相談会 \n※申込不要です。個別相談は当日先着で受付します。\n太白区役所の保健師師さんに育児について個別で相談しませんか？ひろばではトイレトレーニングの進め方についてのお話や遊びの紹介があります\n時　間：10:00～11:00\n場　所：ふれあいひろば・研修室
URL:https://asita-dokoiku.com/event/%e3%80%90%e3%81%ae%e3%81%b3%e3%81%99%e3%81%8f%e9%95%b7%e7%94%ba%e3%80%915-19%e7%81%ab-%e3%81%b2%e3%81%a8%e6%81%af%e8%82%b2%e5%85%90%e7%9b%b8%e8%ab%87%e4%bc%9a/
LOCATION:のびすく長町南\, 仙台市太白区長町7丁目20-5 ララガーデン長町5階
CATEGORIES:太白区
ATTACH;FMTTYPE=image/png:https://asita-dokoiku.com/wp-content/uploads/2026/04/スクリーンショット-2026-04-03-17.59.36.png
END:VEVENT
BEGIN:VEVENT
DTSTART;TZID=Asia/Tokyo:20260520T100000
DTEND;TZID=Asia/Tokyo:20260520T110000
DTSTAMP:20260426T004138
CREATED:20260425T034349Z
LAST-MODIFIED:20260425T034349Z
UID:603-1779271200-1779274800@asita-dokoiku.com
SUMMARY:【のびすく仙台】5/20(水) のびバブday
DESCRIPTION:◆のびバブday\n※時間内自由参加です。\n０のつく日は、のびバブday♪０歳児親子のための交流の場です。こどもひろばに集まって、ゆったりおしゃべりしませんか？\n時　間：10：00～11：00\n対　象：0歳児親子、プレパパ・ママ
URL:https://asita-dokoiku.com/event/%e3%80%90%e3%81%ae%e3%81%b3%e3%81%99%e3%81%8f%e4%bb%99%e5%8f%b0%e3%80%915-20%e6%b0%b4-%e3%81%ae%e3%81%b3%e3%83%90%e3%83%96day/
LOCATION:のびすく仙台\, 〒980-0021
CATEGORIES:青葉区
ATTACH;FMTTYPE=image/png:https://asita-dokoiku.com/wp-content/uploads/2026/04/スクリーンショット-2026-04-03-17.58.16.png
END:VEVENT
BEGIN:VEVENT
DTSTART;TZID=Asia/Tokyo:20260521T103000
DTEND;TZID=Asia/Tokyo:20260521T111000
DTSTAMP:20260426T004138
CREATED:20260425T034301Z
LAST-MODIFIED:20260425T034301Z
UID:605-1779359400-1779361800@asita-dokoiku.com
SUMMARY:【のびすく仙台】5/21(木) ママとキッズの音楽あそび
DESCRIPTION:◆ママとキッズの音楽あそび\n※時間内自由参加です。\n時　間：10：30～11：10\n担　当：おんぷっパ♪\n内　容：リトミックや歌遊びなど、親子一緒にどうぞ。\n場　所：のびすく仙台　こどもひろば
URL:https://asita-dokoiku.com/event/%e3%80%90%e3%81%ae%e3%81%b3%e3%81%99%e3%81%8f%e4%bb%99%e5%8f%b0%e3%80%915-21%e6%9c%a8-%e3%83%9e%e3%83%9e%e3%81%a8%e3%82%ad%e3%83%83%e3%82%ba%e3%81%ae%e9%9f%b3%e6%a5%bd%e3%81%82%e3%81%9d%e3%81%b3/
LOCATION:のびすく仙台\, 〒980-0021
CATEGORIES:青葉区
ATTACH;FMTTYPE=image/png:https://asita-dokoiku.com/wp-content/uploads/2026/04/スクリーンショット-2026-04-03-17.58.16.png
END:VEVENT
BEGIN:VEVENT
DTSTART;TZID=Asia/Tokyo:20260522T103000
DTEND;TZID=Asia/Tokyo:20260522T105000
DTSTAMP:20260426T004138
CREATED:20260425T043339Z
LAST-MODIFIED:20260425T044628Z
UID:615-1779445800-1779447000@asita-dokoiku.com
SUMMARY:【のびすく長町】5/22(金) 移動じどうかん～金剛沢児童館
DESCRIPTION:◆移動じどうかん～金剛沢児童館 \n※申込不要です。直接ひろばにお越し下さい\n金剛沢児童館のみなさんによるペープサートやパネルシアターなど楽しいお話の時間です。\n時　間： 10:30～10:50\n場　所：ふれあいひろば
URL:https://asita-dokoiku.com/event/%e3%80%90%e3%81%ae%e3%81%b3%e3%81%99%e3%81%8f%e9%95%b7%e7%94%ba%e3%80%915-22%e9%87%91-%e7%a7%bb%e5%8b%95%e3%81%98%e3%81%a9%e3%81%86%e3%81%8b%e3%82%93%ef%bd%9e%e9%87%91%e5%89%9b%e6%b2%a2%e5%85%90/
LOCATION:のびすく長町南\, 仙台市太白区長町7丁目20-5 ララガーデン長町5階
CATEGORIES:太白区
ATTACH;FMTTYPE=image/png:https://asita-dokoiku.com/wp-content/uploads/2026/04/スクリーンショット-2026-04-03-17.59.36.png
END:VEVENT
BEGIN:VEVENT
DTSTART;TZID=Asia/Tokyo:20260523T103000
DTEND;TZID=Asia/Tokyo:20260523T110000
DTSTAMP:20260426T004138
CREATED:20260425T033836Z
LAST-MODIFIED:20260425T033836Z
UID:607-1779532200-1779534000@asita-dokoiku.com
SUMMARY:【のびすく仙台】5/23(土) 5月生まれのファーストバースデー
DESCRIPTION:◆5月生まれのファーストバースデー\n※10：20までに受付にお越しください。\n１歳のお子さんのお誕生会です。楽しいお話しや手遊びなど、みんなでお祝いしましょう♪お誕生会後は、フォトコーナーや手形コーナーもお楽しみくださいね。\n時　間：10：30～11：00\n対　象：5月生まれの１歳児と保護者
URL:https://asita-dokoiku.com/event/%e3%80%90%e3%81%ae%e3%81%b3%e3%81%99%e3%81%8f%e4%bb%99%e5%8f%b0%e3%80%915-23%e5%9c%9f-5%e6%9c%88%e7%94%9f%e3%81%be%e3%82%8c%e3%81%ae%e3%83%95%e3%82%a1%e3%83%bc%e3%82%b9%e3%83%88%e3%83%90%e3%83%bc/
LOCATION:のびすく仙台\, 〒980-0021
CATEGORIES:青葉区
ATTACH;FMTTYPE=image/png:https://asita-dokoiku.com/wp-content/uploads/2026/04/スクリーンショット-2026-04-03-17.58.16.png
END:VEVENT
BEGIN:VEVENT
DTSTART;TZID=Asia/Tokyo:20260526T103000
DTEND;TZID=Asia/Tokyo:20260526T110000
DTSTAMP:20260426T004138
CREATED:20260425T043241Z
LAST-MODIFIED:20260425T043241Z
UID:617-1779791400-1779793200@asita-dokoiku.com
SUMMARY:【のびすく長町】5/26(火) おもちゃばこ no おはなし箱
DESCRIPTION:◆おもちゃばこ no おはなし箱 \n※申込不要です。直接ひろばにお越し下さい\nおもちゃばこのみなさんによる、お話やふれあい遊びの時間です。\n時　間：10:30～11:00\n場　所：ふれあいひろば
URL:https://asita-dokoiku.com/event/%e3%80%90%e3%81%ae%e3%81%b3%e3%81%99%e3%81%8f%e9%95%b7%e7%94%ba%e3%80%915-26%e7%81%ab-%e3%81%8a%e3%82%82%e3%81%a1%e3%82%83%e3%81%b0%e3%81%93-no-%e3%81%8a%e3%81%af%e3%81%aa%e3%81%97%e7%ae%b1/
LOCATION:のびすく長町南\, 仙台市太白区長町7丁目20-5 ララガーデン長町5階
CATEGORIES:太白区
ATTACH;FMTTYPE=image/png:https://asita-dokoiku.com/wp-content/uploads/2026/04/スクリーンショット-2026-04-03-17.59.36.png
END:VEVENT
BEGIN:VEVENT
DTSTART;TZID=Asia/Tokyo:20260613T100000
DTEND;TZID=Asia/Tokyo:20260613T111000
DTSTAMP:20260426T004138
CREATED:20260424T224959Z
LAST-MODIFIED:20260424T225244Z
UID:510-1781344800-1781349000@asita-dokoiku.com
SUMMARY:【宮城野区文化センター パトナホール】【有料】6/13(土) ０歳からの・はじめてのオーケストラ 出発進行！
DESCRIPTION:０歳から楽しめる！\n全国で大人気の参加体験型クラシックコンサート！ \n【日時】2026年6月13日(土)\n10:00　開場＆楽器体験\n10:30-11:10　コンサート \n \n【会場】宮城野区文化センター　1階　パトナホール\n（〒983-0842　仙台市宮城野区五輪2-12-70）\nJR　　　JR仙台駅から仙石線下り方面行きで6分、陸前原ノ町駅下車徒歩1分。\nバス　　仙台市営バス、仙台駅前50・51番のりば→宮城野区役所前下車徒歩3分\n宮城交通バス、仙台駅前50番のりば→宮城野区役所前下車徒歩3分 \n\n\n  \n\n出演：サロンオーケストラジャパン\nオーディションで選ばれた優秀な演奏家で構成されておりTV出演多数。全国で年間３５０公演開催の人気団体です。目の前で繰り広げられるサロンオーケストラジャパンの演奏は楽しさと迫力いっぱい。子どもたちが夢中で聴き、親からは歓声が上がる話題のコンサートです。\nどんなコンサート？クリックしてください。 \n \nワルツで踊ろう！のコーナーに、出発進行、愛の挨拶、クラリネットポルカほか。開場から開演までの間はおもちゃの楽器あそび・ヴァイオリン体験もできます！\n※出演者数・プログラムは変更になる場合があります。ご了承ください \n\n《入場料》全自由席\n0歳〜未就学児まで 1\,000円\n一般(小学生以上） 2\,000円 \n◉チケット購入 \nPassMarketでのご購入（一般チケット・ボランティア作業付割引チケット）はこちら↓ \n \nGETTIISでのご購入はこちら↓ \nGETTIIS限定！《早割特典》※2026/04/11(土)00:00〜2026/05/23(木)23:59\n0歳から未就学児まで：800円\n一般(小学生以上）：1\,600円 \n \n団体券の申込みはこちらから↓\n（10名以上10%引き／20名以上20%引き／30名以上25％引き） \n \n\n◉ボランティア付チケット（数量限定） \n【特典】3名以上でご来場の方、１家族につき大人１名が50%オフ\n（お父さんがボランティア参加＋お母さんがお子さんのケア、というパターンがお勧めです）\n※お子様が小学生以上の場合は２名でのご来場でも購入可能\n一般¥2\,000 → ¥1\,000（数量限定・当日キャッシュバック） \n【当日の流れ】\n8:50　会場集合\n開演前　設営・受付のお手伝い\n終演後　撤収作業（約20分）\n※コンサートはフルでお聴き頂けます。集合時間は前後する場合があります。 \n【お申し込み方法】\n①下記サイトでボランティア付きチケットをご購入\n②専用フォームからお申し込み（フォーム入力がない場合は特典が適用されません）\n③担当者より作業内容・集合場所をご連絡しますので必ずご確認ください\n④当日、作業終了後にキャッシュバック \nPassMarketでのご購入（ボランティア作業付割引チケット）はこちら↓ \n \n  \nボランティア作業付きチケットの方は\nPassMarketでの購入後下記からご登録下さい↓ \n \n\n \nこちらのコンサートには撮影が入ります。写真や動画はHP等に掲載される場合がございます。ご了承ください。 \n\nPASSMARKET\nPayPay、クレジットカード、Yahoo!ウォレット決済：手数料はかかりません。\nPayPay残高での支払いの場合は、決済額の0.5%のPayPayポイントが付与される場合があります。\nコンビニ決済：チケット代金とは別に、コンビニ決済手数料がかかります。手数料はチケット金額によって異なります。 \n  \nGETTIIS　▼商品代金以外の必要代金\nシステム利用料　110円／席（税込）\nセブン-イレブン決済手数料　189円／予約（税込）\nセブン-イレブン発券手数料　127円／席（税込）\nQR発券手数料　77円／席（税込）\n※各種手数料は公演によって異なる場合があります。 \n  \nお問い合わせは\nMAIL：salon.c888@gmail.com\nTEL：03-6379-9770 （10時〜17時）
URL:https://asita-dokoiku.com/event/%e3%80%90%e5%ae%ae%e5%9f%8e%e9%87%8e%e5%8c%ba%e6%96%87%e5%8c%96%e3%82%bb%e3%83%b3%e3%82%bf%e3%83%bc-%e3%83%91%e3%83%88%e3%83%8a%e3%83%9b%e3%83%bc%e3%83%ab%e3%80%91%e3%80%90%e6%9c%89%e6%96%99%e3%80%916/
LOCATION:宮城野区文化センター パトナホール\, 仙台市宮城野区五輪2-12-70
CATEGORIES:宮城野区
ATTACH;FMTTYPE=image/png:https://asita-dokoiku.com/wp-content/uploads/2026/04/salon_orchestra_sendai.png
END:VEVENT
BEGIN:VEVENT
DTSTART;TZID=Asia/Tokyo:20260806T120000
DTEND;TZID=Asia/Tokyo:20260806T120000
DTSTAMP:20260426T004138
CREATED:20260417T065320Z
LAST-MODIFIED:20260417T065433Z
UID:519-1786017600-1786017600@asita-dokoiku.com
SUMMARY:【仙台アーケード街】8/6(木)～8/8(土)仙台七夕まつり
DESCRIPTION:毎年8月6日〜8日に行われる仙台のお祭り。 \n新規情報が掲載され次第、更新します。
URL:https://asita-dokoiku.com/event/%e3%80%90%e4%bb%99%e5%8f%b0%e3%82%a2%e3%83%bc%e3%82%b1%e3%83%bc%e3%83%89%e8%a1%97%e3%80%918-6%e6%9c%a8%ef%bd%9e8-8%e5%9c%9f%e4%bb%99%e5%8f%b0%e4%b8%83%e5%a4%95%e3%81%be%e3%81%a4%e3%82%8a/
LOCATION:クリスロード商店街\, 〒980-0021 宮城県仙台市青葉区中央２丁目５−７\, クリスロード商店街
CATEGORIES:青葉区
ATTACH;FMTTYPE=image/png:https://asita-dokoiku.com/wp-content/uploads/2026/04/スクリーンショット-2026-04-17-15.51.20-scaled.png
END:VEVENT
BEGIN:VEVENT
DTSTART;TZID=Asia/Tokyo:20260807T120000
DTEND;TZID=Asia/Tokyo:20260807T120000
DTSTAMP:20260426T004138
CREATED:20260417T065336Z
LAST-MODIFIED:20260417T065336Z
UID:524-1786104000-1786104000@asita-dokoiku.com
SUMMARY:【仙台アーケード街】8/6(木)～8/8(土)仙台七夕まつり
DESCRIPTION:毎年8月6日〜8日に行われる仙台のお祭り。 \n新規情報が掲載され次第、更新します。
URL:https://asita-dokoiku.com/event/%e3%80%90%e4%bb%99%e5%8f%b0%e3%82%a2%e3%83%bc%e3%82%b1%e3%83%bc%e3%83%89%e8%a1%97%e3%80%918-6%e6%9c%a8%ef%bd%9e8-8%e5%9c%9f%e4%bb%99%e5%8f%b0%e4%b8%83%e5%a4%95%e3%81%be%e3%81%a4%e3%82%8a-2/
LOCATION:クリスロード商店街\, 〒980-0021 宮城県仙台市青葉区中央２丁目５−７\, クリスロード商店街
CATEGORIES:青葉区
ATTACH;FMTTYPE=image/png:https://asita-dokoiku.com/wp-content/uploads/2026/04/スクリーンショット-2026-04-17-15.51.20-scaled.png
END:VEVENT
BEGIN:VEVENT
DTSTART;TZID=Asia/Tokyo:20260808T120000
DTEND;TZID=Asia/Tokyo:20260808T120000
DTSTAMP:20260426T004138
CREATED:20260417T065349Z
LAST-MODIFIED:20260417T065349Z
UID:526-1786190400-1786190400@asita-dokoiku.com
SUMMARY:【仙台アーケード街】8/6(木)～8/8(土)仙台七夕まつり
DESCRIPTION:毎年8月6日〜8日に行われる仙台のお祭り。 \n新規情報が掲載され次第、更新します。
URL:https://asita-dokoiku.com/event/%e3%80%90%e4%bb%99%e5%8f%b0%e3%82%a2%e3%83%bc%e3%82%b1%e3%83%bc%e3%83%89%e8%a1%97%e3%80%918-6%e6%9c%a8%ef%bd%9e8-8%e5%9c%9f%e4%bb%99%e5%8f%b0%e4%b8%83%e5%a4%95%e3%81%be%e3%81%a4%e3%82%8a-3/
LOCATION:クリスロード商店街\, 〒980-0021 宮城県仙台市青葉区中央２丁目５−７\, クリスロード商店街
CATEGORIES:青葉区
ATTACH;FMTTYPE=image/png:https://asita-dokoiku.com/wp-content/uploads/2026/04/スクリーンショット-2026-04-17-15.51.20-scaled.png
END:VEVENT
END:VCALENDAR